BEGIN:VCALENDAR
VERSION:2.0
PRODID:-//CyberSecurityWeek - ECPv5.8.0//NONSGML v1.0//EN
CALSCALE:GREGORIAN
METHOD:PUBLISH
X-WR-CALNAME:CyberSecurityWeek
X-ORIGINAL-URL:https://www.cybersecurityweek.lu
X-WR-CALDESC:Events for CyberSecurityWeek
BEGIN:VTIMEZONE
TZID:Europe/Luxembourg
BEGIN:DAYLIGHT
TZOFFSETFROM:+0100
TZOFFSETTO:+0200
TZNAME:CEST
DTSTART:20210328T010000
END:DAYLIGHT
BEGIN:STANDARD
TZOFFSETFROM:+0200
TZOFFSETTO:+0100
TZNAME:CET
DTSTART:20211031T010000
END:STANDARD
END:VTIMEZONE
BEGIN:VEVENT
DTSTART;TZID=Europe/Luxembourg:20211020T080000
DTEND;TZID=Europe/Luxembourg:20211028T170000
DTSTAMP:20210720T053944
CREATED:20210621T105751Z
LAST-MODIFIED:20210715T095309Z
UID:1475-1634716800-1635440400@www.cybersecurityweek.lu
SUMMARY:PwC Cybersecurity & Privacy Days
DESCRIPTION:About the PwC Cybersecurity & Privacy Days\n\n\n\n\n\n\nFrom IT security to digital trust: how to help CISOs\, DPOs and CEOs ensure they keep their organisation secure in a digital society.\nCybersecurity and digital transformation are top of CEOs minds for 2021\, according to the latest PwC Global CEO Survey. Cyber moved up the threat list\, and is now the second highest concern among CEOs – topped only by their anxiety about pandemics. \nIn the meantime\, CISOs are facing an unlimited number of various attacks and risks everyday. DPOs see their mission evolve to ensure data security and privacy are respected\, in a complex environment. \n \n\n\n\n\n\n\n \nThis year’s event will be held over four days\, both remotely and physically at PwC Luxembourg’s premises\, as follows: \n20 October: Under the patronage of PwC Cybersecurity and Privacy Days – a special PwC DPO Meet Up will be held.\n\n\n\nLaunched in June 2019\, the PwC DPO Meet Up is the dedicated platform for DPOs and privacy experts\, taking the form of quarterly rendez-vous and aiming at facilitating discussions\, sharing best practices and raising common concerns. \n\n21 October: Under the patronage of PwC Cybersecurity and Privacy Days – a special PwC Cybersecurity Community Call will be held.\n\n\n\nInitiated at the beginning of the pandemic in 2020\, the PwC Cybersecurity Community Call aims at supporting and facilitating discussions amongst the local Cybersecurity community on a quarterly basis. \n27 October: CEO Corner\n\n\n\n\n\nFor 3 years now\, we organise a dedicated and exclusive session for CEOs\, with a tailored agenda to provide them with an in-depth understanding on strategic challenges around cybersecurity and privacy. \n28 October: CISO Corner & DPO Corner\n\n\nThe PwC Cybersecurity & Privacy Days offers a unique opportunity to gain insights from the latest international trends in cybersecurity and privacy. \nThe CISO and DPO Corners offer information security experts\, DPOs and privacy experts the chance to gain technical updates\, discover promising cybersecurity and privacy solutions and attend interactive dedicated workshops. They also benefit from international renowned speakers who will focus on cybersecurity and privacy challenges they are facing in today’s sophisticated digital world. \n  \nThis 4-days event welcomes distinguished speakers from all over the world\, representing a rich panel of thought leaders. They share the stage with companies engaging in a pitch competition of their innovative solutions and present how they meet cybersecurity or privacy challenges. \nParticipants are also able to participate in business matchmaking\, join interactive breakout sessions and take part in a networking forum with their peers and industry leaders. \nSave the date and see you in October 2021! Join us!\nGiven the current environment of uncertainty due to the covid-19\, we have made the decision of organising a hybrid event in compliance with the sanitary measures in place.
URL:https://www.cybersecurityweek.lu/event/pwc-cybersecurity-privacy-days/
LOCATION:Crystal Park\, 2 Rue Gerhard Mercator\, Luxembourg\, Luxembourg\, 2182\, Luxembourg
CATEGORIES:Conference,Networking event,Webinar
ATTACH;FMTTYPE=image/jpeg:https://www.cybersecurityweek.lu/wp-content/uploads/2021/06/Capture-pwc-cyber-privacy-days.jpg
END:VEVENT
BEGIN:VEVENT
DTSTART;TZID=Europe/Luxembourg:20211020T170000
DTEND;TZID=Europe/Luxembourg:20211020T220000
DTSTAMP:20210720T053944
CREATED:20210625T101643Z
LAST-MODIFIED:20210708T144745Z
UID:1506-1634749200-1634767200@www.cybersecurityweek.lu
SUMMARY:CLUSIL - 25th Anniversary
DESCRIPTION:The CLUSIL invites its members\, friends\, and partners to its 25th anniversary!\n \nMore information to come soon.
URL:https://www.cybersecurityweek.lu/event/clusil-25th-anniversary/
LOCATION:Luxembourg
CATEGORIES:Networking event,Social event
ATTACH;FMTTYPE=image/png:https://www.cybersecurityweek.lu/wp-content/uploads/2021/06/already-25-years-together.png
END:VEVENT
BEGIN:VEVENT
DTSTART;TZID=Europe/Luxembourg:20211021T090000
DTEND;TZID=Europe/Luxembourg:20211021T170000
DTSTAMP:20210720T053944
CREATED:20210707T163754Z
LAST-MODIFIED:20210707T163754Z
UID:1528-1634806800-1634835600@www.cybersecurityweek.lu
SUMMARY:MISP Summit 2021 - Hybrid edition
DESCRIPTION:MISP is an advanced platform for sharing\, storing and correlating Indicators of Compromises from attacks and cyber security threats. Discover how MISP is used today in multiple organisations. Not only to store\, share\, collaborate on cyber security indicators\, but also to use a threat intelligence platform to support analysts\, knowledge base and sharing of information. \nThe objective of the summit is openly discuss about the current usage of MISP\, the future developments and the integration with the overall security ecosystems.
URL:https://www.cybersecurityweek.lu/event/misp-summit-2021-hybrid-edition/
LOCATION:Online
CATEGORIES:Conference
ATTACH;FMTTYPE=image/png:https://www.cybersecurityweek.lu/wp-content/uploads/2021/07/MISP-Summit-banner.png
END:VEVENT
BEGIN:VEVENT
DTSTART;TZID=Europe/Luxembourg:20211021T140000
DTEND;TZID=Europe/Luxembourg:20211021T183000
DTSTAMP:20210720T053944
CREATED:20210621T142641Z
LAST-MODIFIED:20210622T095848Z
UID:1488-1634824800-1634841000@www.cybersecurityweek.lu
SUMMARY:Encryption Europe - Annual General Meeting
DESCRIPTION:“Encrypt to secure the good\, \nEnforce to combat the bad\, \nProtect us all from the ugly”\nAgenda:\n\nOpening remarks: “The untold story of the success of encryption in the digital era”\nRoundtable 1: “From IoT to Quantum\, why encryption will matter”\n\nWe know IoT and Quantum technologies will shape our digital future. What we don’t realize is how deeply encryption will shape these technologies\n\n\nRoundtable 2: “Encryption\, a key instrument towards Europe’s digital autonomy”\n\nIn recent years\, a growing concern has emerged across Europe that our continent should preserve or reconquer its autonomy. What has not been properly appreciated yet is how important encryption will be to make this happen.\n\n\nRoundtable 3: “Encryption interference with Law Enforcement: any chance of a meaningful dialog?\n\nThe EU Council Resolution on “Encryption – Security through encryption and security despite encryption\,” dated 24 November 2020 is unequivocal support in favor of strong encryption and recognizes the necessity for law enforcement and judicial authorities to exercise their lawful powers in protecting our societies and citizens. This necessary balance between strong encryption and lawful enforcement is captured in our motto: “Encrypt to protect the good\, Enforce to combat the bad\, Protect us all from the ugly.”.
URL:https://www.cybersecurityweek.lu/event/encryption-europe-annual-general-meeting/
LOCATION:SECURITYMADEIN.LU\, 16 boulevard d'avranches\, Luxembourg\, Luxembourg\, 1160\, Luxembourg
CATEGORIES:Networking event,Workshops
ATTACH;FMTTYPE=image/png:https://www.cybersecurityweek.lu/wp-content/uploads/2021/06/Annual-General-Meeting-2021.png
ORGANIZER;CN="Encryption%20Europe":MAILTO:info@encryptioneurope.eu
END:VEVENT
BEGIN:VEVENT
DTSTART;TZID=Europe/Luxembourg:20211022T090000
DTEND;TZID=Europe/Luxembourg:20211022T170000
DTSTAMP:20210720T053944
CREATED:20210621T164441Z
LAST-MODIFIED:20210621T164441Z
UID:1493-1634893200-1634922000@www.cybersecurityweek.lu
SUMMARY:EU ATT&CK Community
DESCRIPTION:The EU ATT&CK community is a vendor-neutral platform where users of the MITRE ATT&CK™ Framework can discuss\, exchange\, and improve their use of adversary tactics and techniques in practical use cases.\n\n\n\n\n\n\n\n\nThe EU ATT&CK Community is a diverse community of cybersecurity practitioners including researchers\, vendors\, CSIRTs/CERTs\, and user organisations whose aim is to actively use MITRE ATT&CK™ while contributing back to improve cyber defense. The EU ATT&CK Community is a vendor-neutral platform where all participants can discuss\, exchange\, and improve their use of adversary tactics and techniques together in practical use cases like attribution\, prevention\, detection\, hunting\, and response.
URL:https://www.cybersecurityweek.lu/event/eu-attck-community/
LOCATION:Online
CATEGORIES:Social event,Training,Webinar,Workshops
ATTACH;FMTTYPE=image/png:https://www.cybersecurityweek.lu/wp-content/uploads/2021/06/Screenshot-2021-06-21-at-18.41.21.png
END:VEVENT
BEGIN:VEVENT
DTSTART;TZID=Europe/Luxembourg:20211026T090000
DTEND;TZID=Europe/Luxembourg:20211026T170000
DTSTAMP:20210720T053944
CREATED:20210707T164807Z
LAST-MODIFIED:20210707T164807Z
UID:1531-1635238800-1635267600@www.cybersecurityweek.lu
SUMMARY:Cybersecurity4Success - Chambre de Commerce du Luxembourg
DESCRIPTION:La Chambre de Commerce du Luxembourg et son Enterprise Europe Network\, en collaboration avec Security Made in Lëtzebuerg\, ont le plaisir de vous inviter à cette confère dédiée aux PMEs.
URL:https://www.cybersecurityweek.lu/event/cybersecurity4success-chambre-de-commerce-du-luxembourg/
LOCATION:Chambre de Commerce du Luxembourg\, 7 Rue Alcide de Gasperi\,\, Luxembourg\, L-2981\, Luxembourg
CATEGORIES:Conference,Workshops
ATTACH;FMTTYPE=image/jpeg:https://www.cybersecurityweek.lu/wp-content/uploads/2021/07/csm_shutterstock_147621878_5faefc41be.jpg
END:VEVENT
BEGIN:VEVENT
DTSTART;TZID=Europe/Luxembourg:20211027T090000
DTEND;TZID=Europe/Luxembourg:20211027T183000
DTSTAMP:20210720T053944
CREATED:20210621T110921Z
LAST-MODIFIED:20210621T110941Z
UID:1479-1635325200-1635359400@www.cybersecurityweek.lu
SUMMARY:Salon Cyber et Compliance
DESCRIPTION:Notre but est clair\, rapprocher deux mondes qui interagissent régulièrement ensemble\, qui sont voués à le faire de plus en plus mais qui pourtant ne se comprennent pas toujours. \n\n\n\n\n\n\n\n\n\n\n\n\n\n\n\n\n\n\nNous avons comme objectif de devenir les entremetteurs de ces deux pôles\, compliance d’un côté et cyber de l’autre. Il s’agit donc de construire ensemble la nouvelle culture de la compliance à l’ère numérique. Repenser notre façon de travailler\, de penser\, d’agir pour se préparer à cette conformité 2.0 sans trembler. \nCe Salon organisé par BLL Consulting avec l’appui de SECURITYMADEIN.LU souhaite réunir plus de 400 personnes\, acteurs des deux pôles\, lors d’un évènement premium et innovant. Des conférences sur des sujets fondamentaux\, des ateliers pratiques et plus de 750 m2 d’espace salon et de networking. Dans un lieu exceptionnel\, en présence de toutes les institutions européennes et mondiales dans les domaines cyber & compliance nous pourrons bâtir ensemble les fondations de ce rapprochement nécessaire. \nNos horizons sont les vôtres\, imaginons notre environnement professionnel de demain
URL:https://www.cybersecurityweek.lu/event/salon-cyber-et-compliance/
LOCATION:LUXEMBOURG HIGH SECURITY HUB\, Parishaff\, Niederanven\, Luxembourg\, 2315\, Luxembourg
CATEGORIES:Conference,Fair,Networking event
ATTACH;FMTTYPE=image/png:https://www.cybersecurityweek.lu/wp-content/uploads/2021/06/Screenshot-2021-06-21-at-13.08.16.png
END:VEVENT
BEGIN:VEVENT
DTSTART;TZID=Europe/Luxembourg:20211028T173000
DTEND;TZID=Europe/Luxembourg:20211028T233000
DTSTAMP:20210720T053944
CREATED:20210621T104052Z
LAST-MODIFIED:20210706T101859Z
UID:1471-1635442200-1635463800@www.cybersecurityweek.lu
SUMMARY:Gala and Awards Night 2021
DESCRIPTION:
URL:https://www.cybersecurityweek.lu/event/gala-and-awards-ceremony-2021/
LOCATION:Cinema Kinepolis Kirchberg\, 45\, avenue Kennedy\, Luxembourg\, L-1855\, Luxembourg
CATEGORIES:Networking event
ATTACH;FMTTYPE=image/jpeg:https://www.cybersecurityweek.lu/wp-content/uploads/2021/06/CSWL-Save-the-date-gala-2021-FINAL-NL-e1624273958323.jpg
ORGANIZER;CN="SECURITYMADEIN.LU":MAILTO:communication@securitymadein.lu
END:VEVENT
END:VCALENDAR